BEGIN:VCALENDAR
VERSION:2.0
PRODID:-//Strong Minds PA - ECPv6.15.20//NONSGML v1.0//EN
CALSCALE:GREGORIAN
METHOD:PUBLISH
X-WR-CALNAME:Strong Minds PA
X-ORIGINAL-URL:https://strongmindspa.org
X-WR-CALDESC:Events for Strong Minds PA
REFRESH-INTERVAL;VALUE=DURATION:PT1H
X-Robots-Tag:noindex
X-PUBLISHED-TTL:PT1H
BEGIN:VTIMEZONE
TZID:America/New_York
BEGIN:DAYLIGHT
TZOFFSETFROM:-0500
TZOFFSETTO:-0400
TZNAME:EDT
DTSTART:20240310T070000
END:DAYLIGHT
BEGIN:STANDARD
TZOFFSETFROM:-0400
TZOFFSETTO:-0500
TZNAME:EST
DTSTART:20241103T060000
END:STANDARD
BEGIN:DAYLIGHT
TZOFFSETFROM:-0500
TZOFFSETTO:-0400
TZNAME:EDT
DTSTART:20250309T070000
END:DAYLIGHT
BEGIN:STANDARD
TZOFFSETFROM:-0400
TZOFFSETTO:-0500
TZNAME:EST
DTSTART:20251102T060000
END:STANDARD
BEGIN:DAYLIGHT
TZOFFSETFROM:-0500
TZOFFSETTO:-0400
TZNAME:EDT
DTSTART:20260308T070000
END:DAYLIGHT
BEGIN:STANDARD
TZOFFSETFROM:-0400
TZOFFSETTO:-0500
TZNAME:EST
DTSTART:20261101T060000
END:STANDARD
END:VTIMEZONE
BEGIN:VEVENT
DTSTART;TZID=America/New_York:20251119T170000
DTEND;TZID=America/New_York:20251119T190000
DTSTAMP:20260422T145210
CREATED:20251016T141257Z
LAST-MODIFIED:20251016T141257Z
UID:10000028-1763571600-1763578800@strongmindspa.org
SUMMARY:Luzerne County Community Dialogue for Stronger Children's Mental Health
DESCRIPTION:Join families\, youth\, educators\, health providers\, and community leaders for a solutions-focused conversation on strengthening children’s mental health in PA. We are interested in hearing your experiences and learning what your community needs now to help children thrive. \nThis is a free\, family friendly event.
URL:https://strongmindspa.org/event/luzerne-county-community-dialogue-for-stronger-childrens-mental-health/
LOCATION:Wyoming Valley Catholic Youth Center\, 36 S Washington St\, Wilkes-Barre\, Pennsylvania\, 18701
CATEGORIES:Strong Minds PA Event
ATTACH;FMTTYPE=image/png:https://strongmindspa.org/wp-content/uploads/2025/10/SMBF-MH-Community-Listening-Sessions-3.png
ORGANIZER;CN="Strong Minds%2C Bright Futures":MAILTO:info@strongmindspa.org
END:VEVENT
END:VCALENDAR