BEGIN:VCALENDAR
VERSION:2.0
PRODID:-//Strong Minds PA - ECPv6.15.20//NONSGML v1.0//EN
CALSCALE:GREGORIAN
METHOD:PUBLISH
X-ORIGINAL-URL:https://strongmindspa.org
X-WR-CALDESC:Events for Strong Minds PA
REFRESH-INTERVAL;VALUE=DURATION:PT1H
X-Robots-Tag:noindex
X-PUBLISHED-TTL:PT1H
BEGIN:VTIMEZONE
TZID:America/New_York
BEGIN:DAYLIGHT
TZOFFSETFROM:-0500
TZOFFSETTO:-0400
TZNAME:EDT
DTSTART:20240310T070000
END:DAYLIGHT
BEGIN:STANDARD
TZOFFSETFROM:-0400
TZOFFSETTO:-0500
TZNAME:EST
DTSTART:20241103T060000
END:STANDARD
BEGIN:DAYLIGHT
TZOFFSETFROM:-0500
TZOFFSETTO:-0400
TZNAME:EDT
DTSTART:20250309T070000
END:DAYLIGHT
BEGIN:STANDARD
TZOFFSETFROM:-0400
TZOFFSETTO:-0500
TZNAME:EST
DTSTART:20251102T060000
END:STANDARD
BEGIN:DAYLIGHT
TZOFFSETFROM:-0500
TZOFFSETTO:-0400
TZNAME:EDT
DTSTART:20260308T070000
END:DAYLIGHT
BEGIN:STANDARD
TZOFFSETFROM:-0400
TZOFFSETTO:-0500
TZNAME:EST
DTSTART:20261101T060000
END:STANDARD
END:VTIMEZONE
BEGIN:VEVENT
DTSTART;TZID=America/New_York:20251028T090000
DTEND;TZID=America/New_York:20251028T150000
DTSTAMP:20260422T130751
CREATED:20251016T150907Z
LAST-MODIFIED:20251016T150907Z
UID:10000030-1761642000-1761663600@strongmindspa.org
SUMMARY:3rd Annual PA Community Health Worker (CHW) Recognition Day
DESCRIPTION:Join PA CHWs\, partners\, and supporters to celebrate and elevate the vital work of Community Health Workers across the Commonwealth. This is an educational\, non-lobbying event.\n\n\n\nSchedule & Locations\n-Pre-Rally Gathering: 9:00–11:30 AM | The Civic Club of Harrisburg (612 N Front St)\nNetworking\, sign-making\, and prep\n-Press Conference & Rally: 12:00–1:00 PM | Main Rotunda\, PA State Capitol (501 N 3rd St)\n-Legislator Meetings: Occur throughout the day (limited attendance)\n\n\n\nRegister & details: https://tinyurl.com/ydsw4ana\n\n\nQuestions or Sponsors: Contact David Wiles — david.wiles@pachw.org
URL:https://strongmindspa.org/event/3rd-annual-pa-community-health-worker-chw-recognition-day/
LOCATION:PA State Capitol\, 501 N 3rd St\, Harrisburg\, Pennsylvania\, 17120
CATEGORIES:Affiliate Event
ATTACH;FMTTYPE=image/png:https://strongmindspa.org/wp-content/uploads/2025/10/Mental-Health-is-an-essential-Back-to-School-Supply-Instagram-Post-45-3.png
END:VEVENT
END:VCALENDAR