BEGIN:VCALENDAR
VERSION:2.0
PRODID:-//Strong Minds PA - ECPv6.15.20//NONSGML v1.0//EN
CALSCALE:GREGORIAN
METHOD:PUBLISH
X-ORIGINAL-URL:https://strongmindspa.org
X-WR-CALDESC:Events for Strong Minds PA
REFRESH-INTERVAL;VALUE=DURATION:PT1H
X-Robots-Tag:noindex
X-PUBLISHED-TTL:PT1H
BEGIN:VTIMEZONE
TZID:America/New_York
BEGIN:DAYLIGHT
TZOFFSETFROM:-0500
TZOFFSETTO:-0400
TZNAME:EDT
DTSTART:20250309T070000
END:DAYLIGHT
BEGIN:STANDARD
TZOFFSETFROM:-0400
TZOFFSETTO:-0500
TZNAME:EST
DTSTART:20251102T060000
END:STANDARD
BEGIN:DAYLIGHT
TZOFFSETFROM:-0500
TZOFFSETTO:-0400
TZNAME:EDT
DTSTART:20260308T070000
END:DAYLIGHT
BEGIN:STANDARD
TZOFFSETFROM:-0400
TZOFFSETTO:-0500
TZNAME:EST
DTSTART:20261101T060000
END:STANDARD
BEGIN:DAYLIGHT
TZOFFSETFROM:-0500
TZOFFSETTO:-0400
TZNAME:EDT
DTSTART:20270314T070000
END:DAYLIGHT
BEGIN:STANDARD
TZOFFSETFROM:-0400
TZOFFSETTO:-0500
TZNAME:EST
DTSTART:20271107T060000
END:STANDARD
END:VTIMEZONE
BEGIN:VEVENT
DTSTART;VALUE=DATE:20260423
DTEND;VALUE=DATE:20260425
DTSTAMP:20260422T073436
CREATED:20260408T194038Z
LAST-MODIFIED:20260417T174048Z
UID:10000039-1776902400-1777075199@strongmindspa.org
SUMMARY:NEPA Youth-Led Leadership Conference: Community Awards Dinner & Global Celebration
DESCRIPTION:
URL:https://strongmindspa.org/event/nepa-youth-led-leadership-conference-community-awards-dinner-global-celebration/
LOCATION:Camelback Resort – 193 Resort Drive\, Tannersville\, PA 18372\, 193 Resort Drive\, Tannersville\, PA\, 18372
CATEGORIES:Affiliate Event
ATTACH;FMTTYPE=image/jpeg:https://strongmindspa.org/wp-content/uploads/2026/04/638660302_1333780598787320_1736459163232937209_n-1-scaled.jpg
END:VEVENT
BEGIN:VEVENT
DTSTART;VALUE=DATE:20260430
DTEND;VALUE=DATE:20260501
DTSTAMP:20260422T073436
CREATED:20260408T194323Z
LAST-MODIFIED:20260410T200334Z
UID:10000040-1777507200-1777593599@strongmindspa.org
SUMMARY:NAMI Blair County PA Annual Conference
DESCRIPTION:
URL:https://strongmindspa.org/event/nami-blair-county-pa-annual-conference/
CATEGORIES:Affiliate Event
ATTACH;FMTTYPE=image/jpeg:https://strongmindspa.org/wp-content/uploads/2026/04/622379103_1280288480816912_7822566856893942418_n-e1775851383798.jpg
END:VEVENT
BEGIN:VEVENT
DTSTART;TZID=America/New_York:20260501T110000
DTEND;TZID=America/New_York:20260501T130000
DTSTAMP:20260422T073436
CREATED:20260410T144513Z
LAST-MODIFIED:20260410T200802Z
UID:10000044-1777633200-1777640400@strongmindspa.org
SUMMARY:Community Resource Collaboration (CRC) Event – NAMI Philadelphia
DESCRIPTION:
URL:https://strongmindspa.org/event/community-resource-collaboration-crc-event-nami-philadelphia/
CATEGORIES:Affiliate Event
ATTACH;FMTTYPE=image/png:https://strongmindspa.org/wp-content/uploads/2026/04/b8bd7789-f3bd-460a-94b0-fa54ee18bb04-e1775851607945.png
ORGANIZER;CN="NAMI Philadelphia":MAILTO:LTaylor@namiphilly.org
END:VEVENT
BEGIN:VEVENT
DTSTART;TZID=America/New_York:20260504T100000
DTEND;TZID=America/New_York:20260504T150000
DTSTAMP:20260422T073436
CREATED:20260408T194816Z
LAST-MODIFIED:20260417T191351Z
UID:10000041-1777888800-1777906800@strongmindspa.org
SUMMARY:Pennsylvania Mental Health Advocacy Day 2026
DESCRIPTION:
URL:https://strongmindspa.org/event/nami-keystone-pennsylvania-mental-health-advocacy-day/
LOCATION:PA State Capitol Rotunda\, 501 N 3rd St\, Harrisburg\, Pennsylvania\, 17120
CATEGORIES:Affiliate Event
ATTACH;FMTTYPE=image/jpeg:https://strongmindspa.org/wp-content/uploads/2026/04/images-3.jpeg
END:VEVENT
BEGIN:VEVENT
DTSTART;TZID=America/New_York:20260515T090000
DTEND;TZID=America/New_York:20260515T140000
DTSTAMP:20260422T073436
CREATED:20260410T162731Z
LAST-MODIFIED:20260410T162731Z
UID:10000045-1778835600-1778853600@strongmindspa.org
SUMMARY:H.E.A.L. Conference: Better Together – NAMI Philadelphia
DESCRIPTION:
URL:https://strongmindspa.org/event/h-e-a-l-conference-better-together-nami-philadelphia/
CATEGORIES:Affiliate Event
ATTACH;FMTTYPE=image/png:https://strongmindspa.org/wp-content/uploads/2026/04/737cb7d0-7490-4246-afb9-23d3d3b8268d.png
ORGANIZER;CN="NAMI Philadelphia":MAILTO:LTaylor@namiphilly.org
END:VEVENT
BEGIN:VEVENT
DTSTART;VALUE=DATE:20260518
DTEND;VALUE=DATE:20260520
DTSTAMP:20260422T073436
CREATED:20260408T195130Z
LAST-MODIFIED:20260417T173948Z
UID:10000042-1779062400-1779235199@strongmindspa.org
SUMMARY:Pennsylvania Mental Health and Wellness Conference
DESCRIPTION:
URL:https://strongmindspa.org/event/pennsylvania-mental-health-and-wellness-conference/
LOCATION:The Best Western Premier – The Central Hotel & Conference Center\, 800 East Park Drive\, Harrisburg\, Pennsylvania\, 17111
CATEGORIES:Affiliate Event
ATTACH;FMTTYPE=image/png:https://strongmindspa.org/wp-content/uploads/2026/04/state-con-2026-web-header--e1775851212941.png
END:VEVENT
BEGIN:VEVENT
DTSTART;TZID=America/New_York:20260706T080000
DTEND;TZID=America/New_York:20260706T170000
DTSTAMP:20260422T073436
CREATED:20260408T202737Z
LAST-MODIFIED:20260408T202737Z
UID:10000043-1783324800-1783357200@strongmindspa.org
SUMMARY:Youth and Family Training Institute - Family Driven Teaming Training and Implementation Support
DESCRIPTION:Family Driven Teaming - Training and Implementation Support Overview
URL:https://strongmindspa.org/event/youth-and-family-training-institute-family-driven-teaming-training-and-implementation-support/
CATEGORIES:Affiliate Event
ATTACH;FMTTYPE=image/png:https://strongmindspa.org/wp-content/uploads/2026/04/YFTI.png
END:VEVENT
END:VCALENDAR