BEGIN:VCALENDAR
VERSION:2.0
PRODID:-//Strong Minds PA - ECPv6.15.20//NONSGML v1.0//EN
CALSCALE:GREGORIAN
METHOD:PUBLISH
X-WR-CALNAME:Strong Minds PA
X-ORIGINAL-URL:https://strongmindspa.org
X-WR-CALDESC:Events for Strong Minds PA
REFRESH-INTERVAL;VALUE=DURATION:PT1H
X-Robots-Tag:noindex
X-PUBLISHED-TTL:PT1H
BEGIN:VTIMEZONE
TZID:America/New_York
BEGIN:DAYLIGHT
TZOFFSETFROM:-0500
TZOFFSETTO:-0400
TZNAME:EDT
DTSTART:20240310T070000
END:DAYLIGHT
BEGIN:STANDARD
TZOFFSETFROM:-0400
TZOFFSETTO:-0500
TZNAME:EST
DTSTART:20241103T060000
END:STANDARD
BEGIN:DAYLIGHT
TZOFFSETFROM:-0500
TZOFFSETTO:-0400
TZNAME:EDT
DTSTART:20250309T070000
END:DAYLIGHT
BEGIN:STANDARD
TZOFFSETFROM:-0400
TZOFFSETTO:-0500
TZNAME:EST
DTSTART:20251102T060000
END:STANDARD
BEGIN:DAYLIGHT
TZOFFSETFROM:-0500
TZOFFSETTO:-0400
TZNAME:EDT
DTSTART:20260308T070000
END:DAYLIGHT
BEGIN:STANDARD
TZOFFSETFROM:-0400
TZOFFSETTO:-0500
TZNAME:EST
DTSTART:20261101T060000
END:STANDARD
BEGIN:DAYLIGHT
TZOFFSETFROM:-0500
TZOFFSETTO:-0400
TZNAME:EDT
DTSTART:20270314T070000
END:DAYLIGHT
BEGIN:STANDARD
TZOFFSETFROM:-0400
TZOFFSETTO:-0500
TZNAME:EST
DTSTART:20271107T060000
END:STANDARD
END:VTIMEZONE
BEGIN:VEVENT
DTSTART;TZID=America/New_York:20260421T140000
DTEND;TZID=America/New_York:20260421T150000
DTSTAMP:20260422T090333
CREATED:20260408T193426Z
LAST-MODIFIED:20260410T200139Z
UID:10000038-1776780000-1776783600@strongmindspa.org
SUMMARY:Healthy Sleep\, Healthy Minds
DESCRIPTION:
URL:https://strongmindspa.org/event/healthy-sleep-healthy-minds/
CATEGORIES:Affiliate Event
ATTACH;FMTTYPE=image/jpeg:https://strongmindspa.org/wp-content/uploads/2026/04/653709630_1361108196050823_1880443684651023138_n-e1775851289835.jpg
END:VEVENT
BEGIN:VEVENT
DTSTART;TZID=America/New_York:20260413T180000
DTEND;TZID=America/New_York:20260413T200000
DTSTAMP:20260422T090333
CREATED:20260408T192957Z
LAST-MODIFIED:20260410T195850Z
UID:10000037-1776103200-1776110400@strongmindspa.org
SUMMARY:NAMI Smarts for Advocacy: Reimagining Crisis Response
DESCRIPTION:
URL:https://strongmindspa.org/event/nami-smarts-for-advocacy-reimagining-crisis-response/
CATEGORIES:Affiliate Event
ATTACH;FMTTYPE=image/jpeg:https://strongmindspa.org/wp-content/uploads/2026/04/667039725_1406832688150791_5444323992259199944_n-e1775851120852.jpg
END:VEVENT
BEGIN:VEVENT
DTSTART;VALUE=DATE:20260408
DTEND;VALUE=DATE:20260410
DTSTAMP:20260422T090333
CREATED:20260408T192636Z
LAST-MODIFIED:20260408T192636Z
UID:10000036-1775606400-1775779199@strongmindspa.org
SUMMARY:PCCYFS 2026 Annual Conference
DESCRIPTION:
URL:https://strongmindspa.org/event/pccyfs-2026-annual-conference/
LOCATION:The Best Western Premier – The Central Hotel & Conference Center\, 800 East Park Drive\, Harrisburg\, Pennsylvania\, 17111
CATEGORIES:Affiliate Event
ATTACH;FMTTYPE=image/jpeg:https://strongmindspa.org/wp-content/uploads/2026/04/PCCYFS-Conference-2026.jpg
ORGANIZER;CN="PCCYFS":MAILTO:hbgoffice@pccyfs.org
END:VEVENT
BEGIN:VEVENT
DTSTART;TZID=America/New_York:20260206T073000
DTEND;TZID=America/New_York:20260206T160000
DTSTAMP:20260422T090333
CREATED:20251016T144325Z
LAST-MODIFIED:20260128T193402Z
UID:10000029-1770363000-1770393600@strongmindspa.org
SUMMARY:Youth Mental Health Conference
DESCRIPTION:NAMI Keystone Pennsylvania’s annual Youth Mental Health Conference is taking place on Friday\, February 6\, 2026\, at The Westin Pittsburgh. This event is one of the only conferences in the country specializing in children\, adolescents\, and transition-age youth. The conference provides information on the newest research\, innovative supports\, and best practices to assist and advance the mental health needs of youth. It will feature keynote presentations\, workshop sessions\, and an exhibitor hall. \nThe Youth Mental Health Conference is geared toward parents\, caregivers\, mental health professionals\, educators\, and students. Designed for a broad audience\, this dynamic event creates a space where voices are heard\, perspectives are shared\, and solutions are explored together. Continuing Education Credits and Act 48 Credits will be offered. 
URL:https://strongmindspa.org/event/youth-mental-health-conference/
LOCATION:The Westin Pittsburgh\, 1000 Penn Ave\, Pittsburgh\, Pennsylvania\, 15222
CATEGORIES:Affiliate Event
ATTACH;FMTTYPE=image/jpeg:https://strongmindspa.org/wp-content/uploads/2025/10/616386240_1335269601973767_9137248729972048323_n.jpg
END:VEVENT
BEGIN:VEVENT
DTSTART;TZID=America/New_York:20260128T080000
DTEND;TZID=America/New_York:20260128T170000
DTSTAMP:20260422T090333
CREATED:20260128T195604Z
LAST-MODIFIED:20260128T195648Z
UID:10000034-1769587200-1769619600@strongmindspa.org
SUMMARY:PACHC Maternal Health Summit
DESCRIPTION:PACHC is hosting a Maternal Health Summit on March 30\, uniting providers\, CHWs\, administrators\, and health center teams from across the state. Hosted at The Best Western Premiere in Harrisburg\, the summit will offer practical strategies to strengthen maternal care delivery\, highlight best practices\, and foster cross‑sector learning. It’s a key opportunity for teams to build skills\, connect with colleagues\, and explore solutions to one of Pennsylvania’s most urgent health challenges. Health center clinicians across all service lines\, CHWs\, and maternal health champions are invited. \nThe training details including the detailed event description\, registration pricing\, and overnight room block information can be found on the event page of our website. Early bird registration is open now through Feb 3; both members and non-members are encouraged to Register Here.
URL:https://strongmindspa.org/event/pachc-maternal-health-summit/
LOCATION:The Best Western Premier – The Central Hotel & Conference Center\, 800 East Park Drive\, Harrisburg\, Pennsylvania\, 17111
CATEGORIES:Affiliate Event
ATTACH;FMTTYPE=image/png:https://strongmindspa.org/wp-content/uploads/2026/01/PACHC-Logo-Educate.png
END:VEVENT
BEGIN:VEVENT
DTSTART;TZID=America/New_York:20251203T083000
DTEND;TZID=America/New_York:20251203T163000
DTSTAMP:20260422T090333
CREATED:20251016T151735Z
LAST-MODIFIED:20251016T151735Z
UID:10000031-1764750600-1764779400@strongmindspa.org
SUMMARY:Adult Mental Health First Aid @ Friends Hospital
DESCRIPTION:Learn the warning signs and how YOU can help!
URL:https://strongmindspa.org/event/adult-mental-health-first-aid-friends-hospital/
LOCATION:Scattergood Building – Friends Hospital\, 4641 Roosevelt Boulevard\, Philadelphia\, Pennsylvania\, 19124
CATEGORIES:Affiliate Event
ATTACH;FMTTYPE=image/jpeg:https://strongmindspa.org/wp-content/uploads/2025/10/https___cdn.evbuc_.com_images_1059584063_70468370647_1_original.jpeg
END:VEVENT
BEGIN:VEVENT
DTSTART;VALUE=DATE:20251031
DTEND;VALUE=DATE:20251101
DTSTAMP:20260422T090334
CREATED:20250902T203234Z
LAST-MODIFIED:20250902T203234Z
UID:10000022-1761868800-1761955199@strongmindspa.org
SUMMARY:Youth Infusion: Youth Leadership Advisory Board Applications
DESCRIPTION:Too many teens today feel overwhelmed and isolated. YLAB\, led by Youth Infusion\, combines leadership development and mental health support to change that for high school students across NEPA. \nEach student receives: \n\n-Teen Mental Health First Aid training to support peers and recognize warning signs\n-Adult mentorship from trained Mental Health First Aiders\n–Safe spaces for student voice\, connection\, and stigma reduction\n\nStudents also design service-learning projects tied to global goals\, build career skills\, and present their work at public events like the NEPA Youth-Led Leadership Conference. \nYLAB builds confidence\, belonging\, and tools for real change. It’s free\, open to students ages 15–18\, and accepting applications through October 31\, 2025.
URL:https://strongmindspa.org/event/youth-infusion-youth-leadership-advisory-board-applications/
CATEGORIES:Affiliate Event
ATTACH;FMTTYPE=image/png:https://strongmindspa.org/wp-content/uploads/2025/09/YLAB-Application-Instagram-Post-1.png
END:VEVENT
BEGIN:VEVENT
DTSTART;TZID=America/New_York:20251028T090000
DTEND;TZID=America/New_York:20251028T150000
DTSTAMP:20260422T090334
CREATED:20251016T150907Z
LAST-MODIFIED:20251016T150907Z
UID:10000030-1761642000-1761663600@strongmindspa.org
SUMMARY:3rd Annual PA Community Health Worker (CHW) Recognition Day
DESCRIPTION:Join PA CHWs\, partners\, and supporters to celebrate and elevate the vital work of Community Health Workers across the Commonwealth. This is an educational\, non-lobbying event.\n\n\n\nSchedule & Locations\n-Pre-Rally Gathering: 9:00–11:30 AM | The Civic Club of Harrisburg (612 N Front St)\nNetworking\, sign-making\, and prep\n-Press Conference & Rally: 12:00–1:00 PM | Main Rotunda\, PA State Capitol (501 N 3rd St)\n-Legislator Meetings: Occur throughout the day (limited attendance)\n\n\n\nRegister & details: https://tinyurl.com/ydsw4ana\n\n\nQuestions or Sponsors: Contact David Wiles — david.wiles@pachw.org
URL:https://strongmindspa.org/event/3rd-annual-pa-community-health-worker-chw-recognition-day/
LOCATION:PA State Capitol\, 501 N 3rd St\, Harrisburg\, Pennsylvania\, 17120
CATEGORIES:Affiliate Event
ATTACH;FMTTYPE=image/png:https://strongmindspa.org/wp-content/uploads/2025/10/Mental-Health-is-an-essential-Back-to-School-Supply-Instagram-Post-45-3.png
END:VEVENT
BEGIN:VEVENT
DTSTART;VALUE=DATE:20251007
DTEND;VALUE=DATE:20251010
DTSTAMP:20260422T090334
CREATED:20250902T201541Z
LAST-MODIFIED:20250902T201541Z
UID:10000018-1759795200-1760054399@strongmindspa.org
SUMMARY:2025 PACHC Annual Conference and Clinical Summit
DESCRIPTION:The Pennsylvania Association of Community Health Centers (PACHC) is bringing together health center leaders\, providers\, and staff from across the state for three days of learning\, connection\, and innovation. Don’t miss this opportunity to network and explore new tools to support community health.
URL:https://strongmindspa.org/event/2025-pachc-annual-conference-and-clinical-summit/
LOCATION:Lancaster Marriott\, 25 S Queen St\,\, Lancaster\, Pennsylvania\, 17603
CATEGORIES:Affiliate Event
ATTACH;FMTTYPE=image/png:https://strongmindspa.org/wp-content/uploads/2025/09/2025-conference-registration-banner-1.png
END:VEVENT
BEGIN:VEVENT
DTSTART;TZID=America/New_York:20250924T120000
DTEND;TZID=America/New_York:20250924T140000
DTSTAMP:20260422T090334
CREATED:20250902T202009Z
LAST-MODIFIED:20250902T202009Z
UID:10000019-1758715200-1758722400@strongmindspa.org
SUMMARY:QPR Training
DESCRIPTION:Learn to Help Save a Life: QPR Training with NAMI Montgomery and Access Services  \nIn honor of Suicide Prevention Month\, NAMI Montgomery County PA and Access Services are offering a free QPR (Question\, Persuade\, Refer) training. This powerful session will teach you how to recognize warning signs\, ask life-saving questions\, and connect someone in crisis to help.
URL:https://strongmindspa.org/event/qpr-training/
LOCATION:NAMI Montgomery County\, 100 West Main Street Suite 204\, Lansdale\, Pennsylvania\, 19446
CATEGORIES:Affiliate Event
ATTACH;FMTTYPE=image/jpeg:https://strongmindspa.org/wp-content/uploads/2025/09/540685626_766470936019028_2007908657661671002_n.jpg
END:VEVENT
BEGIN:VEVENT
DTSTART;TZID=America/New_York:20250908T173000
DTEND;TZID=America/New_York:20250908T190000
DTSTAMP:20260422T090334
CREATED:20250902T202656Z
LAST-MODIFIED:20250902T202656Z
UID:10000021-1757352600-1757358000@strongmindspa.org
SUMMARY:Book Launch: Lives Worth Living — Suicide Prevention in Schools
DESCRIPTION:Join the Touchstone Foundation and authors Stephen Sharp and Dr. Perri Rosen for a community conversation on building safe\, supportive school environments through the Zero Suicide framework and MTSS. Educators\, caregivers\, and advocates are invited to learn practical strategies to prevent youth suicide and strengthen student wellness.
URL:https://strongmindspa.org/event/book-launch-lives-worth-living-suicide-prevention-in-schools/
LOCATION:Lancaster Public Library Community\, 151 N Queen Street\, Lancaster\, Pennsylvania\, 17603
CATEGORIES:Affiliate Event
ATTACH;FMTTYPE=image/jpeg:https://strongmindspa.org/wp-content/uploads/2025/09/540066386_1214555947368109_3132113349049773315_n.jpg
END:VEVENT
BEGIN:VEVENT
DTSTART;TZID=America/New_York:20250806T140000
DTEND;TZID=America/New_York:20250806T153000
DTSTAMP:20260422T090334
CREATED:20250716T191525Z
LAST-MODIFIED:20250724T175842Z
UID:10000013-1754488800-1754494200@strongmindspa.org
SUMMARY:Our Turn to Talk
DESCRIPTION:
URL:https://strongmindspa.org/event/our-turn-to-talk/
CATEGORIES:Affiliate Event
ATTACH;FMTTYPE=image/png:https://strongmindspa.org/wp-content/uploads/2025/07/T-E-1.png
LOCATION:
END:VEVENT
BEGIN:VEVENT
DTSTART;TZID=America/New_York:20250806T100000
DTEND;TZID=America/New_York:20250806T130000
DTSTAMP:20260422T090334
CREATED:20250716T191827Z
LAST-MODIFIED:20250726T233452Z
UID:10000012-1754474400-1754485200@strongmindspa.org
SUMMARY:LTSS Subcommittee Meeting
DESCRIPTION:
URL:https://strongmindspa.org/event/ltss-subcommittee-meeting/
CATEGORIES:Affiliate Event
ATTACH;FMTTYPE=image/jpeg:https://strongmindspa.org/wp-content/uploads/2025/07/AdobeStock_60092652-scaled.jpeg
LOCATION:
END:VEVENT
BEGIN:VEVENT
DTSTART;VALUE=DATE:20250728
DTEND;VALUE=DATE:20250802
DTSTAMP:20260422T090334
CREATED:20250716T191947Z
LAST-MODIFIED:20250727T000400Z
UID:10000011-1753660800-1754092799@strongmindspa.org
SUMMARY:Older Youth Retreat
DESCRIPTION:
URL:https://strongmindspa.org/event/older-youth-retreat/
LOCATION:University of Pittsburgh at Johnstown\, 450 Schoolhouse Rd\, Johnstown\, PA\, 15904\, United States
CATEGORIES:Affiliate Event
ATTACH;FMTTYPE=image/jpeg:https://strongmindspa.org/wp-content/uploads/2025/07/307840429_463451062490207_6064181673736297968_n.jpg
END:VEVENT
END:VCALENDAR