BEGIN:VCALENDAR
VERSION:2.0
PRODID:-//Strong Minds PA - ECPv6.15.20//NONSGML v1.0//EN
CALSCALE:GREGORIAN
METHOD:PUBLISH
X-WR-CALNAME:Strong Minds PA
X-ORIGINAL-URL:https://strongmindspa.org
X-WR-CALDESC:Events for Strong Minds PA
REFRESH-INTERVAL;VALUE=DURATION:PT1H
X-Robots-Tag:noindex
X-PUBLISHED-TTL:PT1H
BEGIN:VTIMEZONE
TZID:America/New_York
BEGIN:DAYLIGHT
TZOFFSETFROM:-0500
TZOFFSETTO:-0400
TZNAME:EDT
DTSTART:20240310T070000
END:DAYLIGHT
BEGIN:STANDARD
TZOFFSETFROM:-0400
TZOFFSETTO:-0500
TZNAME:EST
DTSTART:20241103T060000
END:STANDARD
BEGIN:DAYLIGHT
TZOFFSETFROM:-0500
TZOFFSETTO:-0400
TZNAME:EDT
DTSTART:20250309T070000
END:DAYLIGHT
BEGIN:STANDARD
TZOFFSETFROM:-0400
TZOFFSETTO:-0500
TZNAME:EST
DTSTART:20251102T060000
END:STANDARD
BEGIN:DAYLIGHT
TZOFFSETFROM:-0500
TZOFFSETTO:-0400
TZNAME:EDT
DTSTART:20260308T070000
END:DAYLIGHT
BEGIN:STANDARD
TZOFFSETFROM:-0400
TZOFFSETTO:-0500
TZNAME:EST
DTSTART:20261101T060000
END:STANDARD
END:VTIMEZONE
BEGIN:VEVENT
DTSTART;VALUE=DATE:20250626
DTEND;VALUE=DATE:20250629
DTSTAMP:20260422T155948
CREATED:20250611T054256Z
LAST-MODIFIED:20250611T170424Z
UID:933-1750896000-1751155199@strongmindspa.org
SUMMARY:NEPA Youth-Led Leadership Conference 2025
DESCRIPTION:
URL:https://strongmindspa.org/event/nepa-youth-conf-2025/
LOCATION:KALAHARI RESORTS
ATTACH;FMTTYPE=image/jpeg:https://strongmindspa.org/wp-content/uploads/2025/06/depositphotos_170980748-stock-photo-people-during-presentation.jpg
END:VEVENT
END:VCALENDAR