BEGIN:VCALENDAR
VERSION:2.0
PRODID:-//Strong Minds PA - ECPv6.15.20//NONSGML v1.0//EN
CALSCALE:GREGORIAN
METHOD:PUBLISH
X-WR-CALNAME:Strong Minds PA
X-ORIGINAL-URL:https://strongmindspa.org
X-WR-CALDESC:Events for Strong Minds PA
REFRESH-INTERVAL;VALUE=DURATION:PT1H
X-Robots-Tag:noindex
X-PUBLISHED-TTL:PT1H
BEGIN:VTIMEZONE
TZID:America/New_York
BEGIN:DAYLIGHT
TZOFFSETFROM:-0500
TZOFFSETTO:-0400
TZNAME:EDT
DTSTART:20240310T070000
END:DAYLIGHT
BEGIN:STANDARD
TZOFFSETFROM:-0400
TZOFFSETTO:-0500
TZNAME:EST
DTSTART:20241103T060000
END:STANDARD
BEGIN:DAYLIGHT
TZOFFSETFROM:-0500
TZOFFSETTO:-0400
TZNAME:EDT
DTSTART:20250309T070000
END:DAYLIGHT
BEGIN:STANDARD
TZOFFSETFROM:-0400
TZOFFSETTO:-0500
TZNAME:EST
DTSTART:20251102T060000
END:STANDARD
BEGIN:DAYLIGHT
TZOFFSETFROM:-0500
TZOFFSETTO:-0400
TZNAME:EDT
DTSTART:20260308T070000
END:DAYLIGHT
BEGIN:STANDARD
TZOFFSETFROM:-0400
TZOFFSETTO:-0500
TZNAME:EST
DTSTART:20261101T060000
END:STANDARD
END:VTIMEZONE
BEGIN:VEVENT
DTSTART;TZID=America/New_York:20250812T180000
DTEND;TZID=America/New_York:20250812T200000
DTSTAMP:20260422T154805
CREATED:20250724T181419Z
LAST-MODIFIED:20250726T233146Z
UID:1630-1755021600-1755028800@strongmindspa.org
SUMMARY:Mental Health Mindset: A Back-to-School Webinar
DESCRIPTION:Join NAMI Main Line PA and NAMI Philadelphia for a mental health webinar designed for middle and high school youth. The webinar is taking place on Tuesday\, August 12 from 6-8 PM. This two-hour program will include youth sharing their stories of managing mental health and wellness\, tools for managing stress\, and more.
URL:https://strongmindspa.org/event/mental-health-mindset-a-back-to-school-webinar/
CATEGORIES:Strong Minds PA Event
ATTACH;FMTTYPE=image/png:https://strongmindspa.org/wp-content/uploads/2025/07/Mental-Health-Mindset-Flyer-scaled.png
ORGANIZER;CN="NAMI Philadelphia":MAILTO:LTaylor@namiphilly.org
LOCATION:https://www.eventbrite.com/e/mental-health-mindset-a-back-to-school-webinar-for-youth-tickets-1477820895079?fbclid=IwY2xjawLvVrNleHRuA2FlbQIxMABicmlkETExa0MyREFYU0hMenNzYXBEAR5oPjOvAMpt2dFfe74UU2itYJoPL6mSyx-nl3CEQSyoBGc_iC82pSpXzOX2Hw_aem_GvDEhUb1cN9duYrdq85r0g
END:VEVENT
END:VCALENDAR